BEGIN:VCALENDAR
VERSION:2.0
PRODID:-//wp-events-plugin.com//7.2.3.1//EN
TZID:Europe/Berlin
X-WR-TIMEZONE:Europe/Berlin
BEGIN:VEVENT
UID:35@diekraeuterfrau.de
DTSTART;TZID=Europe/Berlin;VALUE=DATE:20260425
DTEND;TZID=Europe/Berlin;VALUE=DATE:20260803
DTSTAMP:20250729T175432Z
URL:https://diekraeuterfrau.de/events/weiterbildung-in-kraeuterheilkunde-2
 /
SUMMARY:Weiterbildung in Kräuterheilkunde
DESCRIPTION:Weiterbildung Kräuterheilkunde
ATTACH;FMTTYPE=image/jpeg:https://diekraeuterfrau.de/wp-content/uploads/20
 24/06/IMG_5217-scaled.jpg
CATEGORIES:Heilpflanzenkunde
LOCATION:Kunsthof Molmerswende\, Hauptstr. 21\, Molmerswende\, 06343\, Deut
 schland
X-APPLE-STRUCTURED-LOCATION;VALUE=URI;X-ADDRESS=Hauptstr. 21\, Molmerswende
 \, 06343\, Deutschland;X-APPLE-RADIUS=100;X-TITLE=Kunsthof Molmerswende:ge
 o:0,0
END:VEVENT
BEGIN:VTIMEZONE
TZID:Europe/Berlin
X-LIC-LOCATION:Europe/Berlin
BEGIN:DAYLIGHT
DTSTART:20260329T030000
TZOFFSETFROM:+0100
TZOFFSETTO:+0200
TZNAME:CEST
END:DAYLIGHT
END:VTIMEZONE
END:VCALENDAR