BEGIN:VCALENDAR
VERSION:2.0
PRODID:-//wp-events-plugin.com//7.2.3.1//EN
TZID:Europe/Berlin
X-WR-TIMEZONE:Europe/Berlin
BEGIN:VEVENT
UID:34@diekraeuterfrau.de
DTSTART;TZID=Europe/Berlin;VALUE=DATE:20260501
DTEND;TZID=Europe/Berlin;VALUE=DATE:20260504
DTSTAMP:20250729T175949Z
URL:https://diekraeuterfrau.de/events/das-1x1-der-waldmedizin-3/
SUMMARY:Das 1x1 der Waldmedizin
DESCRIPTION:Unser Wald\, hält neben vielen anderen Aspekten\, eine große 
 Menge an Heilmitteln für uns bereit. So wie wir als Kräuterfrauen die Pf
 lanzen der Wiesen nutzen\, so stehen uns im Wald mit den Bäumen eine gro
 ße Menge an Heil-Bäumen zur Verfügung.\n\nWährend dieser Ausbidlung le
 rnst du den großen Schatz an Heilbäumen im Portrait kennen. Ich zeige di
 r\, wie du im Jahresverlauf die Bäume für Anwendungen nutzen kannst. Du 
 lernst die Bäume zu bestimmen und neue sowie alte Zubereitungsarten kenne
 n\, um sie gut anzuwenden.\n\nDabei geht es von A - wie Ahorn bis Z - wie 
 Zunderpilz...\n\nLass dich überraschen und lerne unseren Wald noch besser
  kennen!\n\nTermin: Ausbildungszyklus in 3 Teilen (wochentags!)\n\n 	01.- 
 03.05.26  Geistmühle\n 	18.- 20.09.26  Geistmühle\n 	09.- 11.10.26  G
 eistmühle\n\nOrt: Geistmühle Halberstadt\nKosten: 870 Euro inkl. Überna
 chtung in Fereinwohnungen der Geistmühle
ATTACH;FMTTYPE=image/jpeg:https://diekraeuterfrau.de/wp-content/uploads/20
 24/05/IMG_9321.jpg
CATEGORIES:Waldmedizin
LOCATION:Geistmühle Halberstadt\, Am Anger 2\, Halberstadt\, Sachsen Anhal
 t\,  38820 \, Harz\, Deutschland
X-APPLE-STRUCTURED-LOCATION;VALUE=URI;X-ADDRESS=Am Anger 2\, Halberstadt\, 
 Sachsen Anhalt\,  38820 \, Harz\, Deutschland;X-APPLE-RADIUS=100;X-TITLE=G
 eistmühle Halberstadt:geo:0,0
END:VEVENT
BEGIN:VTIMEZONE
TZID:Europe/Berlin
X-LIC-LOCATION:Europe/Berlin
BEGIN:DAYLIGHT
DTSTART:20260329T030000
TZOFFSETFROM:+0100
TZOFFSETTO:+0200
TZNAME:CEST
END:DAYLIGHT
END:VTIMEZONE
END:VCALENDAR